BEGIN:VCALENDAR
VERSION:2.0
PRODID:-//Richard Lander School, Truro - ECPv5.14.0.2//NONSGML v1.0//EN
CALSCALE:GREGORIAN
METHOD:PUBLISH
X-WR-CALNAME:Richard Lander School, Truro
X-ORIGINAL-URL:https://www.richardlander.co.uk
X-WR-CALDESC:Events for Richard Lander School, Truro
REFRESH-INTERVAL;VALUE=DURATION:PT1H
X-Robots-Tag:noindex
X-PUBLISHED-TTL:PT1H
BEGIN:VTIMEZONE
TZID:Europe/London
BEGIN:DAYLIGHT
TZOFFSETFROM:+0000
TZOFFSETTO:+0100
TZNAME:BST
DTSTART:20220327T010000
END:DAYLIGHT
BEGIN:STANDARD
TZOFFSETFROM:+0100
TZOFFSETTO:+0000
TZNAME:GMT
DTSTART:20221030T010000
END:STANDARD
END:VTIMEZONE
BEGIN:VEVENT
DTSTART;TZID=Europe/London:20220215T084500
DTEND;TZID=Europe/London:20220215T150000
DTSTAMP:20260422T175529
CREATED:20220127T145940Z
LAST-MODIFIED:20220127T145940Z
UID:3477-1644914700-1644937200@www.richardlander.co.uk
SUMMARY:Year 11 GCSE Graphics Examination
DESCRIPTION:Room 113
URL:https://www.richardlander.co.uk/event/year-11-gcse-graphics-examination-3/
END:VEVENT
BEGIN:VEVENT
DTSTART;TZID=Europe/London:20220215T133000
DTEND;TZID=Europe/London:20220215T150000
DTSTAMP:20260422T175529
CREATED:20220214T135050Z
LAST-MODIFIED:20220214T135050Z
UID:3788-1644931800-1644937200@www.richardlander.co.uk
SUMMARY:U12 Basketball Tournament
DESCRIPTION:Penryn College \n 
URL:https://www.richardlander.co.uk/event/u12-basketball-tournament/
END:VEVENT
BEGIN:VEVENT
DTSTART;TZID=Europe/London:20220215T140000
DTEND;TZID=Europe/London:20220215T170000
DTSTAMP:20260422T175529
CREATED:20220214T135138Z
LAST-MODIFIED:20220214T135138Z
UID:3790-1644933600-1644944400@www.richardlander.co.uk
SUMMARY:U14 Girls Football Game
DESCRIPTION:Mounts Bay School
URL:https://www.richardlander.co.uk/event/u14-girls-football-game/
END:VEVENT
END:VCALENDAR