BEGIN:VCALENDAR
VERSION:2.0
PRODID:-//Richard Lander School, Truro - ECPv5.14.0.2//NONSGML v1.0//EN
CALSCALE:GREGORIAN
METHOD:PUBLISH
X-WR-CALNAME:Richard Lander School, Truro
X-ORIGINAL-URL:https://www.richardlander.co.uk
X-WR-CALDESC:Events for Richard Lander School, Truro
REFRESH-INTERVAL;VALUE=DURATION:PT1H
X-Robots-Tag:noindex
X-PUBLISHED-TTL:PT1H
BEGIN:VTIMEZONE
TZID:Europe/London
BEGIN:DAYLIGHT
TZOFFSETFROM:+0000
TZOFFSETTO:+0100
TZNAME:BST
DTSTART:20220327T010000
END:DAYLIGHT
BEGIN:STANDARD
TZOFFSETFROM:+0100
TZOFFSETTO:+0000
TZNAME:GMT
DTSTART:20221030T010000
END:STANDARD
END:VTIMEZONE
BEGIN:VEVENT
DTSTART;TZID=Europe/London:20220325T193000
DTEND;TZID=Europe/London:20220325T220000
DTSTAMP:20260424T204328
CREATED:20220127T152329Z
LAST-MODIFIED:20220127T152329Z
UID:3523-1648236600-1648245600@www.richardlander.co.uk
SUMMARY:Everybody's talking about Jamie - Hall for Cornwall
DESCRIPTION:
URL:https://www.richardlander.co.uk/event/everybodys-talking-about-jamie-hall-for-cornwall/
END:VEVENT
END:VCALENDAR