BEGIN:VCALENDAR
VERSION:2.0
PRODID:-//Richard Lander School, Truro - ECPv5.14.0.2//NONSGML v1.0//EN
CALSCALE:GREGORIAN
METHOD:PUBLISH
X-WR-CALNAME:Richard Lander School, Truro
X-ORIGINAL-URL:https://www.richardlander.co.uk
X-WR-CALDESC:Events for Richard Lander School, Truro
REFRESH-INTERVAL;VALUE=DURATION:PT1H
X-Robots-Tag:noindex
X-PUBLISHED-TTL:PT1H
BEGIN:VTIMEZONE
TZID:Europe/London
BEGIN:DAYLIGHT
TZOFFSETFROM:+0000
TZOFFSETTO:+0100
TZNAME:BST
DTSTART:20220327T010000
END:DAYLIGHT
BEGIN:STANDARD
TZOFFSETFROM:+0100
TZOFFSETTO:+0000
TZNAME:GMT
DTSTART:20221030T010000
END:STANDARD
END:VTIMEZONE
BEGIN:VEVENT
DTSTART;VALUE=DATE:20220424
DTEND;VALUE=DATE:20220913
DTSTAMP:20260420T004046
CREATED:20220912T082724Z
LAST-MODIFIED:20220912T082724Z
UID:4673-1650758400-1663027199@www.richardlander.co.uk
SUMMARY:First Day of Summer Term
DESCRIPTION:
URL:https://www.richardlander.co.uk/event/first-day-of-summer-term/
END:VEVENT
BEGIN:VEVENT
DTSTART;VALUE=DATE:20220424
DTEND;VALUE=DATE:20220512
DTSTAMP:20260420T004046
CREATED:20220912T082807Z
LAST-MODIFIED:20220912T082807Z
UID:4675-1650758400-1652313599@www.richardlander.co.uk
SUMMARY:Year 8 Progress Reviews
DESCRIPTION:
URL:https://www.richardlander.co.uk/event/year-8-progress-reviews-2/
END:VEVENT
BEGIN:VEVENT
DTSTART;VALUE=DATE:20220509
DTEND;VALUE=DATE:20220528
DTSTAMP:20260420T004046
CREATED:20220127T153713Z
LAST-MODIFIED:20220127T153713Z
UID:3573-1652054400-1653695999@www.richardlander.co.uk
SUMMARY:Year 10 Exams
DESCRIPTION:
URL:https://www.richardlander.co.uk/event/year-10-exams/
END:VEVENT
END:VCALENDAR