BEGIN:VCALENDAR
VERSION:2.0
PRODID:-//Richard Lander School, Truro - ECPv5.14.0.2//NONSGML v1.0//EN
CALSCALE:GREGORIAN
METHOD:PUBLISH
X-WR-CALNAME:Richard Lander School, Truro
X-ORIGINAL-URL:https://www.richardlander.co.uk
X-WR-CALDESC:Events for Richard Lander School, Truro
REFRESH-INTERVAL;VALUE=DURATION:PT1H
X-Robots-Tag:noindex
X-PUBLISHED-TTL:PT1H
BEGIN:VTIMEZONE
TZID:Europe/London
BEGIN:DAYLIGHT
TZOFFSETFROM:+0000
TZOFFSETTO:+0100
TZNAME:BST
DTSTART:20230326T010000
END:DAYLIGHT
BEGIN:STANDARD
TZOFFSETFROM:+0100
TZOFFSETTO:+0000
TZNAME:GMT
DTSTART:20231029T010000
END:STANDARD
END:VTIMEZONE
BEGIN:VEVENT
DTSTART;VALUE=DATE:20230103
DTEND;VALUE=DATE:20230113
DTSTAMP:20260423T153213
CREATED:20220912T080636Z
LAST-MODIFIED:20220912T080636Z
UID:4649-1672704000-1673567999@www.richardlander.co.uk
SUMMARY:Year 9 Progress Reviews
DESCRIPTION:
URL:https://www.richardlander.co.uk/event/year-9-progress-reviews-2/
END:VEVENT
BEGIN:VEVENT
DTSTART;VALUE=DATE:20230109
DTEND;VALUE=DATE:20230110
DTSTAMP:20260423T153213
CREATED:20230104T094748Z
LAST-MODIFIED:20230104T094748Z
UID:5055-1673222400-1673308799@www.richardlander.co.uk
SUMMARY:Year 11 Careers Meeting - Rescheduled from 12th December
DESCRIPTION:
URL:https://www.richardlander.co.uk/event/year-11-careers-meeting-rescheduled-from-12th-december/
END:VEVENT
BEGIN:VEVENT
DTSTART;TZID=Europe/London:20230109T130000
DTEND;TZID=Europe/London:20230109T140000
DTSTAMP:20260423T153213
CREATED:20220912T075604Z
LAST-MODIFIED:20220912T075604Z
UID:4619-1673269200-1673272800@www.richardlander.co.uk
SUMMARY:School Nurse Drop In
DESCRIPTION:School nurse service\nMonday 10th October\n\n\nSmoking/vaping\nMonday 7th November\n\n\nMental health\nMonday 12th Dec\n\n\nAlcohol\nMonday 9th Jan\n\n\nDisordered eating\nMonday 6th Feb\n\n\nHealthy relationships\nMonday 6th March\n\n\nExams Stress\nMonday 17th April\n\n\nSelf-care\, sleep \, health\nMonday 8th May\n\n\nSun\, water safety\nMonday 12th June
URL:https://www.richardlander.co.uk/event/school-nurse-drop-in-4/
END:VEVENT
END:VCALENDAR