BEGIN:VCALENDAR
VERSION:2.0
PRODID:-//Richard Lander School, Truro - ECPv5.14.0.2//NONSGML v1.0//EN
CALSCALE:GREGORIAN
METHOD:PUBLISH
X-WR-CALNAME:Richard Lander School, Truro
X-ORIGINAL-URL:https://www.richardlander.co.uk
X-WR-CALDESC:Events for Richard Lander School, Truro
REFRESH-INTERVAL;VALUE=DURATION:PT1H
X-Robots-Tag:noindex
X-PUBLISHED-TTL:PT1H
BEGIN:VTIMEZONE
TZID:Europe/London
BEGIN:DAYLIGHT
TZOFFSETFROM:+0000
TZOFFSETTO:+0100
TZNAME:BST
DTSTART:20230326T010000
END:DAYLIGHT
BEGIN:STANDARD
TZOFFSETFROM:+0100
TZOFFSETTO:+0000
TZNAME:GMT
DTSTART:20231029T010000
END:STANDARD
END:VTIMEZONE
BEGIN:VEVENT
DTSTART;VALUE=DATE:20230123
DTEND;VALUE=DATE:20230204
DTSTAMP:20260423T153206
CREATED:20220912T080843Z
LAST-MODIFIED:20220912T080843Z
UID:4653-1674432000-1675468799@www.richardlander.co.uk
SUMMARY:Year 10 Progress Reviews
DESCRIPTION:
URL:https://www.richardlander.co.uk/event/year-10-progress-reviews-2/
END:VEVENT
BEGIN:VEVENT
DTSTART;TZID=Europe/London:20230131T083000
DTEND;TZID=Europe/London:20230131T103000
DTSTAMP:20260423T153206
CREATED:20230104T101116Z
LAST-MODIFIED:20230104T101943Z
UID:5085-1675153800-1675161000@www.richardlander.co.uk
SUMMARY:BTEC Engineering Exam
DESCRIPTION:
URL:https://www.richardlander.co.uk/event/btec-engineering-exam-part-1/
END:VEVENT
END:VCALENDAR