BEGIN:VCALENDAR
VERSION:2.0
PRODID:-//Richard Lander School, Truro - ECPv5.14.0.2//NONSGML v1.0//EN
CALSCALE:GREGORIAN
METHOD:PUBLISH
X-WR-CALNAME:Richard Lander School, Truro
X-ORIGINAL-URL:https://www.richardlander.co.uk
X-WR-CALDESC:Events for Richard Lander School, Truro
REFRESH-INTERVAL;VALUE=DURATION:PT1H
X-Robots-Tag:noindex
X-PUBLISHED-TTL:PT1H
BEGIN:VTIMEZONE
TZID:Europe/London
BEGIN:DAYLIGHT
TZOFFSETFROM:+0000
TZOFFSETTO:+0100
TZNAME:BST
DTSTART:20230326T010000
END:DAYLIGHT
BEGIN:STANDARD
TZOFFSETFROM:+0100
TZOFFSETTO:+0000
TZNAME:GMT
DTSTART:20231029T010000
END:STANDARD
END:VTIMEZONE
BEGIN:VEVENT
DTSTART;VALUE=DATE:20230329
DTEND;VALUE=DATE:20230415
DTSTAMP:20260419T181510
CREATED:20230104T112252Z
LAST-MODIFIED:20230110T113039Z
UID:5159-1680048000-1681516799@www.richardlander.co.uk
SUMMARY:India Trip
DESCRIPTION:India Trip
URL:https://www.richardlander.co.uk/event/india-trip/
END:VEVENT
BEGIN:VEVENT
DTSTART;VALUE=DATE:20230330
DTEND;VALUE=DATE:20230331
DTSTAMP:20260419T181510
CREATED:20230110T091916Z
LAST-MODIFIED:20230110T113017Z
UID:5243-1680134400-1680220799@www.richardlander.co.uk
SUMMARY:Boys Football Fixture vs Newquay Tretherras
DESCRIPTION:Boys Football Fixture vs Newquay Tretherras \nHome
URL:https://www.richardlander.co.uk/event/boys-football-fixture-vs-newquay-tretherras/
END:VEVENT
BEGIN:VEVENT
DTSTART;VALUE=DATE:20230330
DTEND;VALUE=DATE:20230331
DTSTAMP:20260419T181510
CREATED:20230110T100634Z
LAST-MODIFIED:20230110T112950Z
UID:5284-1680134400-1680220799@www.richardlander.co.uk
SUMMARY:Girls Hockey Fixture vs Truro School
DESCRIPTION:Girls Hockey Fixture vs Truro School \nYears 7\,8\,9 \nAway
URL:https://www.richardlander.co.uk/event/girls-hockey-fixture-vs-truro-school-2/
END:VEVENT
BEGIN:VEVENT
DTSTART;VALUE=DATE:20230330
DTEND;VALUE=DATE:20230331
DTSTAMP:20260419T181510
CREATED:20230110T100714Z
LAST-MODIFIED:20230110T112930Z
UID:5286-1680134400-1680220799@www.richardlander.co.uk
SUMMARY:Girls Football Fixture vs Truro School
DESCRIPTION:Girls Football Fixture vs Truro School \nYears 10 & 11 \nAway
URL:https://www.richardlander.co.uk/event/girls-football-fixture-vs-truro-school-2/
END:VEVENT
END:VCALENDAR