BEGIN:VCALENDAR
VERSION:2.0
PRODID:-//Richard Lander School, Truro - ECPv5.14.0.2//NONSGML v1.0//EN
CALSCALE:GREGORIAN
METHOD:PUBLISH
X-WR-CALNAME:Richard Lander School, Truro
X-ORIGINAL-URL:https://www.richardlander.co.uk
X-WR-CALDESC:Events for Richard Lander School, Truro
REFRESH-INTERVAL;VALUE=DURATION:PT1H
X-Robots-Tag:noindex
X-PUBLISHED-TTL:PT1H
BEGIN:VTIMEZONE
TZID:Europe/London
BEGIN:DAYLIGHT
TZOFFSETFROM:+0000
TZOFFSETTO:+0100
TZNAME:BST
DTSTART:20230326T010000
END:DAYLIGHT
BEGIN:STANDARD
TZOFFSETFROM:+0100
TZOFFSETTO:+0000
TZNAME:GMT
DTSTART:20231029T010000
END:STANDARD
END:VTIMEZONE
BEGIN:VEVENT
DTSTART;VALUE=DATE:20230717
DTEND;VALUE=DATE:20230722
DTSTAMP:20260419T181514
CREATED:20220912T072342Z
LAST-MODIFIED:20230110T111745Z
UID:4571-1689552000-1689983999@www.richardlander.co.uk
SUMMARY:Curriculum Enrichment / Activities Week
DESCRIPTION:Curriculum Enrichment / Activities Week
URL:https://www.richardlander.co.uk/event/curriculum-enrichment-activities-week/
END:VEVENT
BEGIN:VEVENT
DTSTART;VALUE=DATE:20230717
DTEND;VALUE=DATE:20230725
DTSTAMP:20260419T181514
CREATED:20220912T084637Z
LAST-MODIFIED:20230110T111717Z
UID:4706-1689552000-1690243199@www.richardlander.co.uk
SUMMARY:Watersports Alpine Adventure Trip
DESCRIPTION:Watersports Alpine Adventure Trip
URL:https://www.richardlander.co.uk/event/watersports-alpine-adventure-trip/
END:VEVENT
BEGIN:VEVENT
DTSTART;VALUE=DATE:20230717
DTEND;VALUE=DATE:20230722
DTSTAMP:20260419T181514
CREATED:20220912T084731Z
LAST-MODIFIED:20230110T111732Z
UID:4708-1689552000-1689983999@www.richardlander.co.uk
SUMMARY:Year 10 Work Experience
DESCRIPTION:Year 10 Work Experience
URL:https://www.richardlander.co.uk/event/year-10-work-experience/
END:VEVENT
END:VCALENDAR