BEGIN:VCALENDAR
VERSION:2.0
PRODID:-//Richard Lander School, Truro - ECPv5.14.0.2//NONSGML v1.0//EN
CALSCALE:GREGORIAN
METHOD:PUBLISH
X-WR-CALNAME:Richard Lander School, Truro
X-ORIGINAL-URL:https://www.richardlander.co.uk
X-WR-CALDESC:Events for Richard Lander School, Truro
REFRESH-INTERVAL;VALUE=DURATION:PT1H
X-Robots-Tag:noindex
X-PUBLISHED-TTL:PT1H
BEGIN:VTIMEZONE
TZID:Europe/London
BEGIN:DAYLIGHT
TZOFFSETFROM:+0000
TZOFFSETTO:+0100
TZNAME:BST
DTSTART:20230326T010000
END:DAYLIGHT
BEGIN:STANDARD
TZOFFSETFROM:+0100
TZOFFSETTO:+0000
TZNAME:GMT
DTSTART:20231029T010000
END:STANDARD
END:VTIMEZONE
BEGIN:VEVENT
DTSTART;VALUE=DATE:20231030
DTEND;VALUE=DATE:20231118
DTSTAMP:20260419T213436
CREATED:20231211T164406Z
LAST-MODIFIED:20231211T164406Z
UID:6070-1698624000-1700265599@www.richardlander.co.uk
SUMMARY:Year 11 PPEs
DESCRIPTION:
URL:https://www.richardlander.co.uk/event/year-11-ppes-2/
END:VEVENT
BEGIN:VEVENT
DTSTART;VALUE=DATE:20231106
DTEND;VALUE=DATE:20231111
DTSTAMP:20260419T213436
CREATED:20231211T164753Z
LAST-MODIFIED:20231211T164753Z
UID:6084-1699228800-1699660799@www.richardlander.co.uk
SUMMARY:National Green Careers Week
DESCRIPTION:
URL:https://www.richardlander.co.uk/event/national-green-careers-week/
END:VEVENT
BEGIN:VEVENT
DTSTART;VALUE=DATE:20231107
DTEND;VALUE=DATE:20231108
DTSTAMP:20260419T213436
CREATED:20231211T164836Z
LAST-MODIFIED:20231211T164836Z
UID:6086-1699315200-1699401599@www.richardlander.co.uk
SUMMARY:U12 West Cornwall Rugby Festival at Truro College
DESCRIPTION:
URL:https://www.richardlander.co.uk/event/u12-west-cornwall-rugby-festival-at-truro-college/2023-11-07/
END:VEVENT
BEGIN:VEVENT
DTSTART;VALUE=DATE:20231107
DTEND;VALUE=DATE:20231108
DTSTAMP:20260419T213436
CREATED:20231211T164922Z
LAST-MODIFIED:20231211T164922Z
UID:6089-1699315200-1699401599@www.richardlander.co.uk
SUMMARY:Employability Workshop
DESCRIPTION:
URL:https://www.richardlander.co.uk/event/employability-workshop/2023-11-07/
END:VEVENT
BEGIN:VEVENT
DTSTART;VALUE=DATE:20231107
DTEND;VALUE=DATE:20231108
DTSTAMP:20260419T213436
CREATED:20231211T164945Z
LAST-MODIFIED:20231211T164945Z
UID:6094-1699315200-1699401599@www.richardlander.co.uk
SUMMARY:Carrick Dance Auditions
DESCRIPTION:
URL:https://www.richardlander.co.uk/event/carrick-dance-auditions/
END:VEVENT
BEGIN:VEVENT
DTSTART;VALUE=DATE:20231107
DTEND;VALUE=DATE:20231108
DTSTAMP:20260419T213436
CREATED:20231211T165014Z
LAST-MODIFIED:20231211T165014Z
UID:6096-1699315200-1699401599@www.richardlander.co.uk
SUMMARY:U14 County Cup Round 2
DESCRIPTION:Falmouth School
URL:https://www.richardlander.co.uk/event/u14-county-cup-round-2/
END:VEVENT
BEGIN:VEVENT
DTSTART;VALUE=DATE:20231107
DTEND;VALUE=DATE:20231108
DTSTAMP:20260419T213436
CREATED:20231211T165035Z
LAST-MODIFIED:20231211T165035Z
UID:6098-1699315200-1699401599@www.richardlander.co.uk
SUMMARY:Uganda 2024 - Parents Information Evening
DESCRIPTION:
URL:https://www.richardlander.co.uk/event/uganda-2024-parents-information-evening/
END:VEVENT
END:VCALENDAR