BEGIN:VCALENDAR
VERSION:2.0
PRODID:-//Richard Lander School, Truro - ECPv5.14.0.2//NONSGML v1.0//EN
CALSCALE:GREGORIAN
METHOD:PUBLISH
X-WR-CALNAME:Richard Lander School, Truro
X-ORIGINAL-URL:https://www.richardlander.co.uk
X-WR-CALDESC:Events for Richard Lander School, Truro
REFRESH-INTERVAL;VALUE=DURATION:PT1H
X-Robots-Tag:noindex
X-PUBLISHED-TTL:PT1H
BEGIN:VTIMEZONE
TZID:Europe/London
BEGIN:DAYLIGHT
TZOFFSETFROM:+0000
TZOFFSETTO:+0100
TZNAME:BST
DTSTART:20230326T010000
END:DAYLIGHT
BEGIN:STANDARD
TZOFFSETFROM:+0100
TZOFFSETTO:+0000
TZNAME:GMT
DTSTART:20231029T010000
END:STANDARD
END:VTIMEZONE
BEGIN:VEVENT
DTSTART;VALUE=DATE:20231030
DTEND;VALUE=DATE:20231118
DTSTAMP:20260419T132226
CREATED:20231211T164406Z
LAST-MODIFIED:20231211T164406Z
UID:6070-1698624000-1700265599@www.richardlander.co.uk
SUMMARY:Year 11 PPEs
DESCRIPTION:
URL:https://www.richardlander.co.uk/event/year-11-ppes-2/
END:VEVENT
BEGIN:VEVENT
DTSTART;VALUE=DATE:20231113
DTEND;VALUE=DATE:20231120
DTSTAMP:20260419T132226
CREATED:20231211T165235Z
LAST-MODIFIED:20231211T165235Z
UID:6106-1699833600-1700438399@www.richardlander.co.uk
SUMMARY:National Enterprise Week
DESCRIPTION:
URL:https://www.richardlander.co.uk/event/national-enterprise-week-2/
END:VEVENT
BEGIN:VEVENT
DTSTART;VALUE=DATE:20231113
DTEND;VALUE=DATE:20231114
DTSTAMP:20260419T132226
CREATED:20231211T165310Z
LAST-MODIFIED:20231211T165310Z
UID:6108-1699833600-1699919999@www.richardlander.co.uk
SUMMARY:Year 10 Business Students - Meet the Entrepreneur
DESCRIPTION:
URL:https://www.richardlander.co.uk/event/year-10-business-students-meet-the-entrepreneur/2023-11-13/
END:VEVENT
BEGIN:VEVENT
DTSTART;VALUE=DATE:20231113
DTEND;VALUE=DATE:20231114
DTSTAMP:20260419T132226
CREATED:20231211T165334Z
LAST-MODIFIED:20231211T165334Z
UID:6111-1699833600-1699919999@www.richardlander.co.uk
SUMMARY:Faraday STEM Challenge
DESCRIPTION:
URL:https://www.richardlander.co.uk/event/faraday-stem-challenge/
END:VEVENT
BEGIN:VEVENT
DTSTART;VALUE=DATE:20231113
DTEND;VALUE=DATE:20231114
DTSTAMP:20260419T132226
CREATED:20231211T165359Z
LAST-MODIFIED:20231211T165359Z
UID:6113-1699833600-1699919999@www.richardlander.co.uk
SUMMARY:U13 Girls National Cup Football Game
DESCRIPTION:
URL:https://www.richardlander.co.uk/event/u13-girls-national-cup-football-game/
END:VEVENT
END:VCALENDAR