BEGIN:VCALENDAR
VERSION:2.0
PRODID:-//Richard Lander School, Truro - ECPv5.14.0.2//NONSGML v1.0//EN
CALSCALE:GREGORIAN
METHOD:PUBLISH
X-WR-CALNAME:Richard Lander School, Truro
X-ORIGINAL-URL:https://www.richardlander.co.uk
X-WR-CALDESC:Events for Richard Lander School, Truro
REFRESH-INTERVAL;VALUE=DURATION:PT1H
X-Robots-Tag:noindex
X-PUBLISHED-TTL:PT1H
BEGIN:VTIMEZONE
TZID:Europe/London
BEGIN:DAYLIGHT
TZOFFSETFROM:+0000
TZOFFSETTO:+0100
TZNAME:BST
DTSTART:20230326T010000
END:DAYLIGHT
BEGIN:STANDARD
TZOFFSETFROM:+0100
TZOFFSETTO:+0000
TZNAME:GMT
DTSTART:20231029T010000
END:STANDARD
END:VTIMEZONE
BEGIN:VEVENT
DTSTART;VALUE=DATE:20231030
DTEND;VALUE=DATE:20231118
DTSTAMP:20260419T185819
CREATED:20231211T164406Z
LAST-MODIFIED:20231211T164406Z
UID:6070-1698624000-1700265599@www.richardlander.co.uk
SUMMARY:Year 11 PPEs
DESCRIPTION:
URL:https://www.richardlander.co.uk/event/year-11-ppes-2/
END:VEVENT
BEGIN:VEVENT
DTSTART;VALUE=DATE:20231113
DTEND;VALUE=DATE:20231120
DTSTAMP:20260419T185819
CREATED:20231211T165235Z
LAST-MODIFIED:20231211T165235Z
UID:6106-1699833600-1700438399@www.richardlander.co.uk
SUMMARY:National Enterprise Week
DESCRIPTION:
URL:https://www.richardlander.co.uk/event/national-enterprise-week-2/
END:VEVENT
BEGIN:VEVENT
DTSTART;VALUE=DATE:20231117
DTEND;VALUE=DATE:20231118
DTSTAMP:20260419T185819
CREATED:20231211T165629Z
LAST-MODIFIED:20231211T165629Z
UID:6120-1700179200-1700265599@www.richardlander.co.uk
SUMMARY:Pearl of Africa Primary and KS3 workshops
DESCRIPTION:
URL:https://www.richardlander.co.uk/event/pearl-of-africa-primary-and-ks3-workshops/
END:VEVENT
BEGIN:VEVENT
DTSTART;VALUE=DATE:20231117
DTEND;VALUE=DATE:20231118
DTSTAMP:20260419T185819
CREATED:20231211T165648Z
LAST-MODIFIED:20231211T165648Z
UID:6122-1700179200-1700265599@www.richardlander.co.uk
SUMMARY:Army Catering Challenge
DESCRIPTION:
URL:https://www.richardlander.co.uk/event/army-catering-challenge/
END:VEVENT
BEGIN:VEVENT
DTSTART;VALUE=DATE:20231117
DTEND;VALUE=DATE:20231118
DTSTAMP:20260419T185819
CREATED:20231211T165713Z
LAST-MODIFIED:20231211T165713Z
UID:6124-1700179200-1700265599@www.richardlander.co.uk
SUMMARY:Year 5/6 Key Steps Gymnastics Competition
DESCRIPTION:
URL:https://www.richardlander.co.uk/event/year-5-6-key-steps-gymnastics-competition/
END:VEVENT
BEGIN:VEVENT
DTSTART;TZID=Europe/London:20231117T180000
DTEND;TZID=Europe/London:20231117T200000
DTSTAMP:20260419T185819
CREATED:20231211T165806Z
LAST-MODIFIED:20231211T165820Z
UID:6126-1700244000-1700251200@www.richardlander.co.uk
SUMMARY:Pearl of Africa Children's Choir Concert
DESCRIPTION:
URL:https://www.richardlander.co.uk/event/pearl-of-africa-concert/
END:VEVENT
END:VCALENDAR