BEGIN:VCALENDAR
VERSION:2.0
PRODID:-//Richard Lander School, Truro - ECPv5.14.0.2//NONSGML v1.0//EN
CALSCALE:GREGORIAN
METHOD:PUBLISH
X-WR-CALNAME:Richard Lander School, Truro
X-ORIGINAL-URL:https://www.richardlander.co.uk
X-WR-CALDESC:Events for Richard Lander School, Truro
REFRESH-INTERVAL;VALUE=DURATION:PT1H
X-Robots-Tag:noindex
X-PUBLISHED-TTL:PT1H
BEGIN:VTIMEZONE
TZID:Europe/London
BEGIN:DAYLIGHT
TZOFFSETFROM:+0000
TZOFFSETTO:+0100
TZNAME:BST
DTSTART:20230326T010000
END:DAYLIGHT
BEGIN:STANDARD
TZOFFSETFROM:+0100
TZOFFSETTO:+0000
TZNAME:GMT
DTSTART:20231029T010000
END:STANDARD
END:VTIMEZONE
BEGIN:VEVENT
DTSTART;VALUE=DATE:20231123
DTEND;VALUE=DATE:20231124
DTSTAMP:20260419T170222
CREATED:20231211T170205Z
LAST-MODIFIED:20231211T170205Z
UID:6141-1700697600-1700783999@www.richardlander.co.uk
SUMMARY:Immunisation Day
DESCRIPTION:
URL:https://www.richardlander.co.uk/event/immunisation-day-4/
END:VEVENT
BEGIN:VEVENT
DTSTART;TZID=Europe/London:20231123T180000
DTEND;TZID=Europe/London:20231123T190000
DTSTAMP:20260419T170222
CREATED:20231211T170239Z
LAST-MODIFIED:20231211T170239Z
UID:6143-1700762400-1700766000@www.richardlander.co.uk
SUMMARY:Uganda 2025 - Parent Information Evening
DESCRIPTION:
URL:https://www.richardlander.co.uk/event/uganda-2025-parent-information-evening/
END:VEVENT
END:VCALENDAR