BEGIN:VCALENDAR
VERSION:2.0
PRODID:-//Richard Lander School, Truro - ECPv5.14.0.2//NONSGML v1.0//EN
CALSCALE:GREGORIAN
METHOD:PUBLISH
X-WR-CALNAME:Richard Lander School, Truro
X-ORIGINAL-URL:https://www.richardlander.co.uk
X-WR-CALDESC:Events for Richard Lander School, Truro
REFRESH-INTERVAL;VALUE=DURATION:PT1H
X-Robots-Tag:noindex
X-PUBLISHED-TTL:PT1H
BEGIN:VTIMEZONE
TZID:Europe/London
BEGIN:DAYLIGHT
TZOFFSETFROM:+0000
TZOFFSETTO:+0100
TZNAME:BST
DTSTART:20230326T010000
END:DAYLIGHT
BEGIN:STANDARD
TZOFFSETFROM:+0100
TZOFFSETTO:+0000
TZNAME:GMT
DTSTART:20231029T010000
END:STANDARD
END:VTIMEZONE
BEGIN:VEVENT
DTSTART;VALUE=DATE:20231207
DTEND;VALUE=DATE:20231208
DTSTAMP:20260420T132847
CREATED:20231211T171307Z
LAST-MODIFIED:20231211T171307Z
UID:6186-1701907200-1701993599@www.richardlander.co.uk
SUMMARY:Year 3/4 Featbeat Dance Competition
DESCRIPTION:
URL:https://www.richardlander.co.uk/event/year-3-4-featbeat-dance-competition/
END:VEVENT
BEGIN:VEVENT
DTSTART;VALUE=DATE:20231207
DTEND;VALUE=DATE:20231208
DTSTAMP:20260420T132847
CREATED:20231211T171336Z
LAST-MODIFIED:20231211T171336Z
UID:6188-1701907200-1701993599@www.richardlander.co.uk
SUMMARY:Model UN Taster Session
DESCRIPTION:Truro High School
URL:https://www.richardlander.co.uk/event/model-un-taster-session/
END:VEVENT
BEGIN:VEVENT
DTSTART;VALUE=DATE:20231207
DTEND;VALUE=DATE:20231208
DTSTAMP:20260420T132847
CREATED:20231211T171409Z
LAST-MODIFIED:20231211T171409Z
UID:6190-1701907200-1701993599@www.richardlander.co.uk
SUMMARY:U13 Indoor Cricket Tournament
DESCRIPTION:Truro College
URL:https://www.richardlander.co.uk/event/u13-indoor-cricket-tournament/
END:VEVENT
BEGIN:VEVENT
DTSTART;VALUE=DATE:20231207
DTEND;VALUE=DATE:20231208
DTSTAMP:20260420T132847
CREATED:20231211T171437Z
LAST-MODIFIED:20231211T171437Z
UID:6192-1701907200-1701993599@www.richardlander.co.uk
SUMMARY:U13 Boy Football Game 4th Round v Torbridge
DESCRIPTION:Truro College
URL:https://www.richardlander.co.uk/event/u13-boy-football-game-4th-round-v-torbridge/
END:VEVENT
END:VCALENDAR