BEGIN:VCALENDAR
VERSION:2.0
PRODID:-//Richard Lander School, Truro - ECPv5.14.0.2//NONSGML v1.0//EN
CALSCALE:GREGORIAN
METHOD:PUBLISH
X-WR-CALNAME:Richard Lander School, Truro
X-ORIGINAL-URL:https://www.richardlander.co.uk
X-WR-CALDESC:Events for Richard Lander School, Truro
REFRESH-INTERVAL;VALUE=DURATION:PT1H
X-Robots-Tag:noindex
X-PUBLISHED-TTL:PT1H
BEGIN:VTIMEZONE
TZID:Europe/London
BEGIN:DAYLIGHT
TZOFFSETFROM:+0000
TZOFFSETTO:+0100
TZNAME:BST
DTSTART:20230326T010000
END:DAYLIGHT
BEGIN:STANDARD
TZOFFSETFROM:+0100
TZOFFSETTO:+0000
TZNAME:GMT
DTSTART:20231029T010000
END:STANDARD
END:VTIMEZONE
BEGIN:VEVENT
DTSTART;VALUE=DATE:20231211
DTEND;VALUE=DATE:20231216
DTSTAMP:20260419T170221
CREATED:20231211T141344Z
LAST-MODIFIED:20231211T141344Z
UID:5938-1702252800-1702684799@www.richardlander.co.uk
SUMMARY:Year 9 Progress Reviews
DESCRIPTION:
URL:https://www.richardlander.co.uk/event/year-9-progress-reviews-3/
END:VEVENT
BEGIN:VEVENT
DTSTART;VALUE=DATE:20231213
DTEND;VALUE=DATE:20231214
DTSTAMP:20260419T170221
CREATED:20231211T141510Z
LAST-MODIFIED:20231211T141510Z
UID:5942-1702425600-1702511999@www.richardlander.co.uk
SUMMARY:Year 10 Dance GCSE Exam
DESCRIPTION:
URL:https://www.richardlander.co.uk/event/year-10-dance-gcse-exam/
END:VEVENT
END:VCALENDAR