BEGIN:VCALENDAR
VERSION:2.0
PRODID:-//Richard Lander School, Truro - ECPv5.14.0.2//NONSGML v1.0//EN
CALSCALE:GREGORIAN
METHOD:PUBLISH
X-WR-CALNAME:Richard Lander School, Truro
X-ORIGINAL-URL:https://www.richardlander.co.uk
X-WR-CALDESC:Events for Richard Lander School, Truro
REFRESH-INTERVAL;VALUE=DURATION:PT1H
X-Robots-Tag:noindex
X-PUBLISHED-TTL:PT1H
BEGIN:VTIMEZONE
TZID:Europe/London
BEGIN:DAYLIGHT
TZOFFSETFROM:+0000
TZOFFSETTO:+0100
TZNAME:BST
DTSTART:20240331T010000
END:DAYLIGHT
BEGIN:STANDARD
TZOFFSETFROM:+0100
TZOFFSETTO:+0000
TZNAME:GMT
DTSTART:20241027T010000
END:STANDARD
END:VTIMEZONE
BEGIN:VEVENT
DTSTART;TZID=Europe/London:20240513T080000
DTEND;TZID=Europe/London:20240628T170000
DTSTAMP:20260421T223753
CREATED:20240610T153647Z
LAST-MODIFIED:20240610T153647Z
UID:6823-1715587200-1719594000@www.richardlander.co.uk
SUMMARY:Year 11 GSCE Exams
DESCRIPTION:
URL:https://www.richardlander.co.uk/event/year-11-gsce-exams/
END:VEVENT
BEGIN:VEVENT
DTSTART;TZID=Europe/London:20240603T080000
DTEND;TZID=Europe/London:20240621T170000
DTSTAMP:20260421T223753
CREATED:20240610T153740Z
LAST-MODIFIED:20240610T153740Z
UID:6825-1717401600-1718989200@www.richardlander.co.uk
SUMMARY:KS3 End of Year Exams
DESCRIPTION:
URL:https://www.richardlander.co.uk/event/ks3-end-of-year-exams/
END:VEVENT
BEGIN:VEVENT
DTSTART;VALUE=DATE:20240610
DTEND;VALUE=DATE:20240611
DTSTAMP:20260421T223753
CREATED:20240610T153852Z
LAST-MODIFIED:20240610T153852Z
UID:6829-1717977600-1718063999@www.richardlander.co.uk
SUMMARY:Music Technology Workshop
DESCRIPTION:
URL:https://www.richardlander.co.uk/event/music-technology-workshop/
END:VEVENT
BEGIN:VEVENT
DTSTART;TZID=Europe/London:20240610T080000
DTEND;TZID=Europe/London:20240610T170000
DTSTAMP:20260421T223753
CREATED:20240610T154159Z
LAST-MODIFIED:20240610T154159Z
UID:6836-1718006400-1718038800@www.richardlander.co.uk
SUMMARY:Year 10 Photography Trip to Geevor Tin Mine
DESCRIPTION:
URL:https://www.richardlander.co.uk/event/year-10-photography-trip-to-geevor-tin-mine/
END:VEVENT
BEGIN:VEVENT
DTSTART;TZID=Europe/London:20240610T080000
DTEND;TZID=Europe/London:20240614T170000
DTSTAMP:20260421T223753
CREATED:20240610T153816Z
LAST-MODIFIED:20240610T153816Z
UID:6827-1718006400-1718384400@www.richardlander.co.uk
SUMMARY:World Ocean Day Assemblies
DESCRIPTION:
URL:https://www.richardlander.co.uk/event/world-ocean-day-assemblies/
END:VEVENT
BEGIN:VEVENT
DTSTART;TZID=Europe/London:20240610T130000
DTEND;TZID=Europe/London:20240610T160000
DTSTAMP:20260421T223753
CREATED:20240610T153927Z
LAST-MODIFIED:20240610T153954Z
UID:6831-1718024400-1718035200@www.richardlander.co.uk
SUMMARY:U15 County Cup Cricket
DESCRIPTION:At Camborne School
URL:https://www.richardlander.co.uk/event/u15-county-cup-cricket/
END:VEVENT
END:VCALENDAR