BEGIN:VCALENDAR
VERSION:2.0
PRODID:-//Richard Lander School, Truro - ECPv5.14.0.2//NONSGML v1.0//EN
CALSCALE:GREGORIAN
METHOD:PUBLISH
X-WR-CALNAME:Richard Lander School, Truro
X-ORIGINAL-URL:https://www.richardlander.co.uk
X-WR-CALDESC:Events for Richard Lander School, Truro
REFRESH-INTERVAL;VALUE=DURATION:PT1H
X-Robots-Tag:noindex
X-PUBLISHED-TTL:PT1H
BEGIN:VTIMEZONE
TZID:Europe/London
BEGIN:DAYLIGHT
TZOFFSETFROM:+0000
TZOFFSETTO:+0100
TZNAME:BST
DTSTART:20250330T010000
END:DAYLIGHT
BEGIN:STANDARD
TZOFFSETFROM:+0100
TZOFFSETTO:+0000
TZNAME:GMT
DTSTART:20251026T010000
END:STANDARD
END:VTIMEZONE
BEGIN:VEVENT
DTSTART;VALUE=DATE:20250428
DTEND;VALUE=DATE:20250524
DTSTAMP:20260422T025850
CREATED:20250113T143723Z
LAST-MODIFIED:20250113T143928Z
UID:8216-1745798400-1748044799@www.richardlander.co.uk
SUMMARY:Year 10 Exams
DESCRIPTION:
URL:https://www.richardlander.co.uk/event/year-10-mocks/
END:VEVENT
BEGIN:VEVENT
DTSTART;VALUE=DATE:20250506
DTEND;VALUE=DATE:20250628
DTSTAMP:20260422T025850
CREATED:20250113T143852Z
LAST-MODIFIED:20250113T143852Z
UID:8220-1746489600-1751068799@www.richardlander.co.uk
SUMMARY:Year 11 GCSE Exams
DESCRIPTION:
URL:https://www.richardlander.co.uk/event/year-11-gcse-exams/
END:VEVENT
BEGIN:VEVENT
DTSTART;VALUE=DATE:20250508
DTEND;VALUE=DATE:20250516
DTSTAMP:20260422T025850
CREATED:20250113T144006Z
LAST-MODIFIED:20250113T144006Z
UID:8223-1746662400-1747353599@www.richardlander.co.uk
SUMMARY:GCSE Art and Photography Exhibition
DESCRIPTION:
URL:https://www.richardlander.co.uk/event/gcse-art-and-photography-exhibition/
END:VEVENT
BEGIN:VEVENT
DTSTART;VALUE=DATE:20250513
DTEND;VALUE=DATE:20250514
DTSTAMP:20260422T025850
CREATED:20250113T144036Z
LAST-MODIFIED:20250113T144036Z
UID:8225-1747094400-1747180799@www.richardlander.co.uk
SUMMARY:Year 7 Dragons' Day - Enterprise Dropdown Day
DESCRIPTION:
URL:https://www.richardlander.co.uk/event/year-7-dragons-day-enterprise-dropdown-day/
END:VEVENT
END:VCALENDAR