BEGIN:VCALENDAR
VERSION:2.0
PRODID:-//Richard Lander School, Truro - ECPv5.14.0.2//NONSGML v1.0//EN
CALSCALE:GREGORIAN
METHOD:PUBLISH
X-WR-CALNAME:Richard Lander School, Truro
X-ORIGINAL-URL:https://www.richardlander.co.uk
X-WR-CALDESC:Events for Richard Lander School, Truro
REFRESH-INTERVAL;VALUE=DURATION:PT1H
X-Robots-Tag:noindex
X-PUBLISHED-TTL:PT1H
BEGIN:VTIMEZONE
TZID:Europe/London
BEGIN:DAYLIGHT
TZOFFSETFROM:+0000
TZOFFSETTO:+0100
TZNAME:BST
DTSTART:20260329T010000
END:DAYLIGHT
BEGIN:STANDARD
TZOFFSETFROM:+0100
TZOFFSETTO:+0000
TZNAME:GMT
DTSTART:20261025T010000
END:STANDARD
END:VTIMEZONE
BEGIN:VEVENT
DTSTART;VALUE=DATE:20260316
DTEND;VALUE=DATE:20260323
DTSTAMP:20260424T144919
CREATED:20250909T074810Z
LAST-MODIFIED:20250909T074810Z
UID:8702-1773619200-1774223999@www.richardlander.co.uk
SUMMARY:Cornwall Music Festival
DESCRIPTION:Truro Methodist Church – all week – solos/duets/ensemble performances – programme to be confirmed
URL:https://www.richardlander.co.uk/event/cornwall-music-festival-3/
END:VEVENT
BEGIN:VEVENT
DTSTART;VALUE=DATE:20260316
DTEND;VALUE=DATE:20260321
DTSTAMP:20260424T144919
CREATED:20260105T160151Z
LAST-MODIFIED:20260105T160151Z
UID:9202-1773619200-1774051199@www.richardlander.co.uk
SUMMARY:Cornwall Music Festival
DESCRIPTION:Truro Methodist Church
URL:https://www.richardlander.co.uk/event/cornwall-music-festival-4/
END:VEVENT
BEGIN:VEVENT
DTSTART;VALUE=DATE:20260317
DTEND;VALUE=DATE:20260319
DTSTAMP:20260424T144919
CREATED:20260105T160237Z
LAST-MODIFIED:20260105T160237Z
UID:9204-1773705600-1773878399@www.richardlander.co.uk
SUMMARY:Year 10 Mock Interviews
DESCRIPTION:
URL:https://www.richardlander.co.uk/event/year-10-mock-interviews-4/
END:VEVENT
BEGIN:VEVENT
DTSTART;VALUE=DATE:20260318
DTEND;VALUE=DATE:20260319
DTSTAMP:20260424T144919
CREATED:20250909T074933Z
LAST-MODIFIED:20250909T074933Z
UID:8706-1773792000-1773878399@www.richardlander.co.uk
SUMMARY:GCSE Drama Component 3 Exam 1 - TBC
DESCRIPTION:
URL:https://www.richardlander.co.uk/event/gcse-drama-component-3-exam-1-tbc/
END:VEVENT
BEGIN:VEVENT
DTSTART;VALUE=DATE:20260318
DTEND;VALUE=DATE:20260319
DTSTAMP:20260424T144919
CREATED:20260105T160313Z
LAST-MODIFIED:20260105T160313Z
UID:9206-1773792000-1773878399@www.richardlander.co.uk
SUMMARY:Year 8 School Rugby 7s Competition
DESCRIPTION:Penair School
URL:https://www.richardlander.co.uk/event/year-8-school-rugby-7s-competition/
END:VEVENT
END:VCALENDAR