BEGIN:VCALENDAR
VERSION:2.0
PRODID:-//Richard Lander School, Truro - ECPv5.14.0.2//NONSGML v1.0//EN
CALSCALE:GREGORIAN
METHOD:PUBLISH
X-WR-CALNAME:Richard Lander School, Truro
X-ORIGINAL-URL:https://www.richardlander.co.uk
X-WR-CALDESC:Events for Richard Lander School, Truro
REFRESH-INTERVAL;VALUE=DURATION:PT1H
X-Robots-Tag:noindex
X-PUBLISHED-TTL:PT1H
BEGIN:VTIMEZONE
TZID:Europe/London
BEGIN:DAYLIGHT
TZOFFSETFROM:+0000
TZOFFSETTO:+0100
TZNAME:BST
DTSTART:20260329T010000
END:DAYLIGHT
BEGIN:STANDARD
TZOFFSETFROM:+0100
TZOFFSETTO:+0000
TZNAME:GMT
DTSTART:20261025T010000
END:STANDARD
END:VTIMEZONE
BEGIN:VEVENT
DTSTART;VALUE=DATE:20260323
DTEND;VALUE=DATE:20260404
DTSTAMP:20260424T121015
CREATED:20250909T075114Z
LAST-MODIFIED:20250909T075114Z
UID:8712-1774224000-1775260799@www.richardlander.co.uk
SUMMARY:Year 7 Progress Reviews
DESCRIPTION:
URL:https://www.richardlander.co.uk/event/year-7-progress-reviews-3/
END:VEVENT
BEGIN:VEVENT
DTSTART;VALUE=DATE:20260331
DTEND;VALUE=DATE:20260401
DTSTAMP:20260424T121015
CREATED:20260105T160642Z
LAST-MODIFIED:20260105T160642Z
UID:9212-1774915200-1775001599@www.richardlander.co.uk
SUMMARY:Year 10 A Level Maths Taster Day
DESCRIPTION:Plymouth University
URL:https://www.richardlander.co.uk/event/year-10-a-level-maths-taster-day/
END:VEVENT
BEGIN:VEVENT
DTSTART;VALUE=DATE:20260331
DTEND;VALUE=DATE:20260401
DTSTAMP:20260424T121015
CREATED:20260105T160710Z
LAST-MODIFIED:20260105T160710Z
UID:9214-1774915200-1775001599@www.richardlander.co.uk
SUMMARY:Locality Meeting
DESCRIPTION:
URL:https://www.richardlander.co.uk/event/locality-meeting/
END:VEVENT
END:VCALENDAR