BEGIN:VCALENDAR
VERSION:2.0
PRODID:-//Richard Lander School, Truro - ECPv5.14.0.2//NONSGML v1.0//EN
CALSCALE:GREGORIAN
METHOD:PUBLISH
X-WR-CALNAME:Richard Lander School, Truro
X-ORIGINAL-URL:https://www.richardlander.co.uk
X-WR-CALDESC:Events for Richard Lander School, Truro
REFRESH-INTERVAL;VALUE=DURATION:PT1H
X-Robots-Tag:noindex
X-PUBLISHED-TTL:PT1H
BEGIN:VTIMEZONE
TZID:Europe/London
BEGIN:DAYLIGHT
TZOFFSETFROM:+0000
TZOFFSETTO:+0100
TZNAME:BST
DTSTART:20230326T010000
END:DAYLIGHT
BEGIN:STANDARD
TZOFFSETFROM:+0100
TZOFFSETTO:+0000
TZNAME:GMT
DTSTART:20231029T010000
END:STANDARD
END:VTIMEZONE
BEGIN:VEVENT
DTSTART;VALUE=DATE:20230529
DTEND;VALUE=DATE:20230603
DTSTAMP:20260421T105550
CREATED:20220912T083957Z
LAST-MODIFIED:20230110T112026Z
UID:4692-1685318400-1685750399@www.richardlander.co.uk
SUMMARY:Half Term Break
DESCRIPTION:Half Term Break
URL:https://www.richardlander.co.uk/event/half-term-break-5/
END:VEVENT
BEGIN:VEVENT
DTSTART;VALUE=DATE:20230605
DTEND;VALUE=DATE:20230624
DTSTAMP:20260421T105550
CREATED:20220912T084222Z
LAST-MODIFIED:20230110T112011Z
UID:4696-1685923200-1687564799@www.richardlander.co.uk
SUMMARY:Key Stage 3 Exams
DESCRIPTION:Key Stage 3 Exams
URL:https://www.richardlander.co.uk/event/key-stage-3-exams-2/
END:VEVENT
BEGIN:VEVENT
DTSTART;VALUE=DATE:20230609
DTEND;VALUE=DATE:20230610
DTSTAMP:20260421T105550
CREATED:20220912T084315Z
LAST-MODIFIED:20230110T111955Z
UID:4698-1686268800-1686355199@www.richardlander.co.uk
SUMMARY:Year 9 Trip to Royal Cornwall Show
DESCRIPTION:Year 9 Trip to Royal Cornwall Show
URL:https://www.richardlander.co.uk/event/year-9-trip-to-royal-cornwall-show/
END:VEVENT
BEGIN:VEVENT
DTSTART;TZID=Europe/London:20230612T130000
DTEND;TZID=Europe/London:20230612T140000
DTSTAMP:20260421T105550
CREATED:20220912T075905Z
LAST-MODIFIED:20230110T111939Z
UID:4629-1686574800-1686578400@www.richardlander.co.uk
SUMMARY:School Nurse Drop In
DESCRIPTION:School Nurse Drop In \n\n\n\nSchool nurse service\nMonday 10th October\n\n\nSmoking/vaping\nMonday 7th November\n\n\nMental health\nMonday 12th Dec\n\n\nAlcohol\nMonday 9th Jan\n\n\nDisordered eating\nMonday 6th Feb\n\n\nHealthy relationships\nMonday 6th March\n\n\nExams Stress\nMonday 17th April\n\n\nSelf-care\, sleep \, health\nMonday 8th May\n\n\nSun\, water safety\nMonday 12th June
URL:https://www.richardlander.co.uk/event/school-nurse-drop-in-9/
END:VEVENT
BEGIN:VEVENT
DTSTART;VALUE=DATE:20230627
DTEND;VALUE=DATE:20230628
DTSTAMP:20260421T105550
CREATED:20220912T084402Z
LAST-MODIFIED:20230110T111919Z
UID:4700-1687824000-1687910399@www.richardlander.co.uk
SUMMARY:Year 10 Health & Safety Workshop
DESCRIPTION:Year 10 Health & Safety Workshop
URL:https://www.richardlander.co.uk/event/year-10-health-safety-workshop/
END:VEVENT
END:VCALENDAR